BEGIN:VCALENDAR
VERSION:2.0
PRODID:-//Ellemnopy Preschool &amp; Playhouse - ECPv6.2.6.1//NONSGML v1.0//EN
CALSCALE:GREGORIAN
METHOD:PUBLISH
X-ORIGINAL-URL:https://ellemnopy.com
X-WR-CALDESC:Events for Ellemnopy Preschool &amp; Playhouse
REFRESH-INTERVAL;VALUE=DURATION:PT1H
X-Robots-Tag:noindex
X-PUBLISHED-TTL:PT1H
BEGIN:VTIMEZONE
TZID:America/Chicago
BEGIN:DAYLIGHT
TZOFFSETFROM:-0600
TZOFFSETTO:-0500
TZNAME:CDT
DTSTART:20220313T080000
END:DAYLIGHT
BEGIN:STANDARD
TZOFFSETFROM:-0500
TZOFFSETTO:-0600
TZNAME:CST
DTSTART:20221106T070000
END:STANDARD
END:VTIMEZONE
BEGIN:VEVENT
DTSTART;TZID=America/Chicago:20220606T080000
DTEND;TZID=America/Chicago:20220729T170000
DTSTAMP:20260423T094254
CREATED:20220611T025706Z
LAST-MODIFIED:20220613T163531Z
UID:8276-1654502400-1659114000@ellemnopy.com
SUMMARY:Summer Camp
DESCRIPTION:
URL:https://ellemnopy.com/event/summer-camp/
LOCATION:Ellemnopy Preschool & Playhouse\, 8730 E. Skelly Drive\, Tulsa\, OK\, 74129\, United States
CATEGORIES:Development
ATTACH;FMTTYPE=image/png:https://ellemnopy.com/wp-content/uploads/2022/06/SummerCampFinal-1024x607-1.png
END:VEVENT
END:VCALENDAR