BEGIN:VCALENDAR
VERSION:2.0
PRODID:-//Ellemnopy Preschool &amp; Playhouse - ECPv6.2.6.1//NONSGML v1.0//EN
CALSCALE:GREGORIAN
METHOD:PUBLISH
X-WR-CALNAME:Ellemnopy Preschool &amp; Playhouse
X-ORIGINAL-URL:https://ellemnopy.com
X-WR-CALDESC:Events for Ellemnopy Preschool &amp; Playhouse
REFRESH-INTERVAL;VALUE=DURATION:PT1H
X-Robots-Tag:noindex
X-PUBLISHED-TTL:PT1H
BEGIN:VTIMEZONE
TZID:America/Chicago
BEGIN:DAYLIGHT
TZOFFSETFROM:-0600
TZOFFSETTO:-0500
TZNAME:CDT
DTSTART:20230312T080000
END:DAYLIGHT
BEGIN:STANDARD
TZOFFSETFROM:-0500
TZOFFSETTO:-0600
TZNAME:CST
DTSTART:20231105T070000
END:STANDARD
END:VTIMEZONE
BEGIN:VEVENT
DTSTART;TZID=America/Chicago:20230804T093000
DTEND;TZID=America/Chicago:20230804T203000
DTSTAMP:20260423T081629
CREATED:20230717T184244Z
LAST-MODIFIED:20230717T184244Z
UID:8546-1691141400-1691181000@ellemnopy.com
SUMMARY:Indoor Garage Sale
DESCRIPTION:Indoor Yard Sale Extravaganza!\nAugust 3rd | 5:30 PM – 8:30 PM \nAugust 4th | 9:30 AM – 8:30 PM \nAugust 5th | 8:30 PM – 5:30 PM \nJoin us for a fabulous Indoor Yard Sale presented by Shining Star Kids Academy and Ellemnopy Preschool & Playhouse! It’s time to clear out the clutter and find new treasures at unbeatable prices. \nEvent Details:\n\nDate: August 3rd – August 6th\nTime: 9:00 AM – 5:30 PM\nLocation: 8730 E. Skelly Dr. Tulsa\, OK 74129\n\nWhat to Expect:\n\nA wide variety of items for sale\, including toys\, clothes\, household goods\, books\, and more!\nFantastic deals and bargains that you won’t want to miss.\nA fun and vibrant atmosphere for both buyers and sellers.\n\nCalling All Sellers: Turn your unwanted items into cash! Reserve your space to sell your goods at our Indoor Yard Sale. Each selling space is available for a nominal fee of $10. Clean out your closets and make room for something new! \nVolunteers Needed: We rely on the support of volunteers to make this event a success. If you have a few hours to spare\, we would greatly appreciate your help. Please contact us to sign up as a volunteer. \nDon’t Miss Out: Mark your calendars and bring your friends\, family\, and neighbors. This Indoor Yard Sale is open to everyone\, so spread the word and join us for a delightful shopping experience. \nFor More Information:\n\nCall (405) 633-0787\nEmail: info@ellemnopy.com\n\nLet’s make this Indoor Yard Sale an event to remember! We look forward to seeing you there.
URL:https://ellemnopy.com/event/indoor-garage-sale-2/
LOCATION:Ellemnopy Preschool & Playhouse\, 8730 E. Skelly Drive\, Tulsa\, OK\, 74129\, United States
CATEGORIES:Event
ATTACH;FMTTYPE=image/jpeg:https://ellemnopy.com/wp-content/uploads/2023/07/Garage-Sale.jpg
ORGANIZER;CN="Ellemnopy":MAILTO:ellemnopyllp.ltd@gmail.com
END:VEVENT
END:VCALENDAR