BEGIN:VCALENDAR
VERSION:2.0
PRODID:-//Ellemnopy Preschool &amp; Playhouse - ECPv6.2.6.1//NONSGML v1.0//EN
CALSCALE:GREGORIAN
METHOD:PUBLISH
X-ORIGINAL-URL:https://ellemnopy.com
X-WR-CALDESC:Events for Ellemnopy Preschool &amp; Playhouse
REFRESH-INTERVAL;VALUE=DURATION:PT1H
X-Robots-Tag:noindex
X-PUBLISHED-TTL:PT1H
BEGIN:VTIMEZONE
TZID:America/Chicago
BEGIN:DAYLIGHT
TZOFFSETFROM:-0600
TZOFFSETTO:-0500
TZNAME:CDT
DTSTART:20230312T080000
END:DAYLIGHT
BEGIN:STANDARD
TZOFFSETFROM:-0500
TZOFFSETTO:-0600
TZNAME:CST
DTSTART:20231105T070000
END:STANDARD
END:VTIMEZONE
BEGIN:VEVENT
DTSTART;TZID=America/Chicago:20230811T180000
DTEND;TZID=America/Chicago:20230811T210000
DTSTAMP:20260423T081717
CREATED:20230717T185708Z
LAST-MODIFIED:20230717T185750Z
UID:8549-1691776800-1691787600@ellemnopy.com
SUMMARY:Talent Show
DESCRIPTION:🌟🎤 Talent Show Alert! 🌟🎤 \n🎉 Calling all superstars! Join us for an unforgettable Talent Show hosted by Shining Star Kids Academy and Ellemnopy Preschool & Playhouse. Prepare to be amazed as our talented kids take the stage to showcase their incredible skills and talents! \n📅 August 11th\n⏰ ?\n📍 8730 E. Skelly Drive Tulsa\, OK 74129 \n🌟 Get ready to witness our little ones shine bright! From mesmerizing dance routines to enchanting musical performances\, comedy acts\, and more\, this Talent Show promises to be an evening of pure joy and entertainment. \n📣 We invite the entire community to be part of this exciting event! Come and support our young performers as they share their passion and creativity with you. It’s a wonderful opportunity to discover the incredible talents within our daycare community. \n🎟️ Admission is absolutely FREE! So\, gather your family\, friends\, and neighbors\, and join us for an evening filled with laughter\, applause\, and unforgettable moments. \n🎁 We believe in nurturing the talents of our children\, and this Talent Show is a celebration of their unique gifts. Let’s show them our love\, encouragement\, and appreciation as they light up the stage! \nFor more information and updates\, Like & Follow us on Facebook & Instagram. \nDon’t miss out on this extraordinary showcase of young talent! Mark your calendars\, spread the word\, and join us for an incredible evening at the Talent Show hosted by Shining Star Kids Academy and Ellemnopy Preschool & Playhouse.
URL:https://ellemnopy.com/event/8549/
LOCATION:Ellemnopy Preschool & Playhouse\, 8730 E. Skelly Drive\, Tulsa\, OK\, 74129\, United States
CATEGORIES:Event
ATTACH;FMTTYPE=image/jpeg:https://ellemnopy.com/wp-content/uploads/2023/07/talent-show.jpg
END:VEVENT
END:VCALENDAR