BEGIN:VCALENDAR
VERSION:2.0
PRODID:-//Ellemnopy Preschool &amp; Playhouse - ECPv6.2.6.1//NONSGML v1.0//EN
CALSCALE:GREGORIAN
METHOD:PUBLISH
X-WR-CALNAME:Ellemnopy Preschool &amp; Playhouse
X-ORIGINAL-URL:https://ellemnopy.com
X-WR-CALDESC:Events for Ellemnopy Preschool &amp; Playhouse
REFRESH-INTERVAL;VALUE=DURATION:PT1H
X-Robots-Tag:noindex
X-PUBLISHED-TTL:PT1H
BEGIN:VTIMEZONE
TZID:America/Chicago
BEGIN:DAYLIGHT
TZOFFSETFROM:-0600
TZOFFSETTO:-0500
TZNAME:CDT
DTSTART:20220313T080000
END:DAYLIGHT
BEGIN:STANDARD
TZOFFSETFROM:-0500
TZOFFSETTO:-0600
TZNAME:CST
DTSTART:20221106T070000
END:STANDARD
END:VTIMEZONE
BEGIN:VEVENT
DTSTART;TZID=America/Chicago:20220625T080000
DTEND;TZID=America/Chicago:20220625T170000
DTSTAMP:20260422T225954
CREATED:20220625T181009Z
LAST-MODIFIED:20220625T181009Z
UID:8420-1656144000-1656176400@ellemnopy.com
SUMMARY:4th of July
DESCRIPTION:
URL:https://ellemnopy.com/event/4th-of-july/
LOCATION:Ellemnopy Preschool & Playhouse\, 8730 E. Skelly Drive\, Tulsa\, OK\, 74129\, United States
CATEGORIES:Closed,Holidays
ORGANIZER;CN="Ellemnopy":MAILTO:ellemnopyllp.ltd@gmail.com
END:VEVENT
BEGIN:VEVENT
DTSTART;TZID=America/Chicago:20220617T080000
DTEND;TZID=America/Chicago:20220617T170000
DTSTAMP:20260422T225954
CREATED:20220611T025349Z
LAST-MODIFIED:20220613T154350Z
UID:8268-1655452800-1655485200@ellemnopy.com
SUMMARY:Donuts for Dad
DESCRIPTION:It’s time once again to dig those super suits out of the closet and find your identity hiding glasses! Donuts with Dad is back\, and we are looking for lots of Superheroes to come out and enjoy some donuts\, juice\, and lots of smiles as we celebrate our wonderful Ellemnopy Dads. There will be a photo opportunity to help you capture the memories of this special day! \nIf Dad can’t make it for this event\, you are welcome to have another family member come with your child\, like a grandparent or uncle. \nIf your child has a food allergy\, please bring a safe alternative for them to enjoy.
URL:https://ellemnopy.com/event/donuts-for-dad/
LOCATION:Ellemnopy Preschool & Playhouse\, 8730 E. Skelly Drive\, Tulsa\, OK\, 74129\, United States
CATEGORIES:Event
ATTACH;FMTTYPE=image/jpeg:https://ellemnopy.com/wp-content/uploads/2022/06/donuts_with_dad-690x414-1.jpg
END:VEVENT
BEGIN:VEVENT
DTSTART;TZID=America/Chicago:20220606T080000
DTEND;TZID=America/Chicago:20220729T170000
DTSTAMP:20260422T225954
CREATED:20220611T025706Z
LAST-MODIFIED:20220613T163531Z
UID:8276-1654502400-1659114000@ellemnopy.com
SUMMARY:Summer Camp
DESCRIPTION:
URL:https://ellemnopy.com/event/summer-camp/
LOCATION:Ellemnopy Preschool & Playhouse\, 8730 E. Skelly Drive\, Tulsa\, OK\, 74129\, United States
CATEGORIES:Development
ATTACH;FMTTYPE=image/png:https://ellemnopy.com/wp-content/uploads/2022/06/SummerCampFinal-1024x607-1.png
END:VEVENT
END:VCALENDAR